BEGIN:VCALENDAR
VERSION:2.0
PRODID:-//Ruah Woods Psychological Services - ECPv6.15.19//NONSGML v1.0//EN
CALSCALE:GREGORIAN
METHOD:PUBLISH
X-WR-CALNAME:Ruah Woods Psychological Services
X-ORIGINAL-URL:https://www.rwpsych.org
X-WR-CALDESC:Events for Ruah Woods Psychological Services
REFRESH-INTERVAL;VALUE=DURATION:PT1H
X-Robots-Tag:noindex
X-PUBLISHED-TTL:PT1H
BEGIN:VTIMEZONE
TZID:UTC
BEGIN:STANDARD
TZOFFSETFROM:+0000
TZOFFSETTO:+0000
TZNAME:UTC
DTSTART:20170101T000000
END:STANDARD
END:VTIMEZONE
BEGIN:VEVENT
DTSTART;TZID=UTC:20180920T180000
DTEND;TZID=UTC:20180920T213000
DTSTAMP:20260424T191103
CREATED:20180801T192839Z
LAST-MODIFIED:20180905T153746Z
UID:535-1537466400-1537479000@www.rwpsych.org
SUMMARY:9th Annual Banquet
DESCRIPTION:9th Annual Ruah Woods Banquet\nA Way of Seeing\nA Way of Living\nA Treasure for Our Time\n \nJoin us to celebrate the truth of our shared humanity\, the honor of our human dignity and our call to become self-gift…a call to love. \nSee the latest release of ROOTED: Theology of the Body K-12 curriculum and discover the TOB Campus…A Community of Persons Where Everybody is Seen as a Gift. \nAnswering God’s Call to A New Way of Life\nWhen: September 20\, 2018 \nWhere: Xavier University’s Schiff Conference and Banquet Center \n1624 Herald Ave.  Cincinnati\, OH  45207                                        \nWhat time: \n6:00 p.m. – Social Hour \n7:00 p.m. – Dinner and Program \nKeynote Speaker: Helen M. Alvare\, Professor of Law and Author of Putting Children’s Interests First in US Family Law and Policy: With Power Comes Responsibility \nAlso featuring: \n\nFr. Ethan Moore\nAaron Baer\nRuah Woods Leadership\n\nHELEN ALVARE is a professor of law at the George Mason University’s Antonin Scalia School of Law where she teaches Family Law\, Law & Religion and Property Law. She publishes on matters concerning marriage\, parenting\, non-marital households and First Amendment religion clauses. Her articles appear regularly in news outlets including the New York Times\, the Washington Post\, the Huffington Post and USA Today. She is currently an advisor to the U.S. Conference of Catholic Bishops\, founder of WomenSpeakforThemselves.com and an ABC news consultant. Her most recent book is Putting Children’s Interests First in the U.S. Family Law and Policy: With Power Comes Responsibility (Cambridge University Press 2017). \n 
URL:https://www.rwpsych.org/event/9th-annual-banquet/
LOCATION:Schiff Conference and Banquet Center\, 1624 Herald Ave.\, Cincinnati\, OH\, 45207
CATEGORIES:Events,Fundraisers
ORGANIZER;CN="Leslie Kuhlman":MAILTO:lesliekuhlman@ruahwoods.org
END:VEVENT
END:VCALENDAR